BEGIN:VCALENDAR
VERSION:2.0
PRODID:-//Besen-Stuttgart.de - ECPv6.15.20//NONSGML v1.0//EN
CALSCALE:GREGORIAN
METHOD:PUBLISH
X-WR-CALNAME:Besen-Stuttgart.de
X-ORIGINAL-URL:https://besen-stuttgart.de
X-WR-CALDESC:Veranstaltungen für Besen-Stuttgart.de
REFRESH-INTERVAL;VALUE=DURATION:PT1H
X-Robots-Tag:noindex
X-PUBLISHED-TTL:PT1H
BEGIN:VTIMEZONE
TZID:Europe/Berlin
BEGIN:DAYLIGHT
TZOFFSETFROM:+0100
TZOFFSETTO:+0200
TZNAME:CEST
DTSTART:20250330T010000
END:DAYLIGHT
BEGIN:STANDARD
TZOFFSETFROM:+0200
TZOFFSETTO:+0100
TZNAME:CET
DTSTART:20251026T010000
END:STANDARD
BEGIN:DAYLIGHT
TZOFFSETFROM:+0100
TZOFFSETTO:+0200
TZNAME:CEST
DTSTART:20260329T010000
END:DAYLIGHT
BEGIN:STANDARD
TZOFFSETFROM:+0200
TZOFFSETTO:+0100
TZNAME:CET
DTSTART:20261025T010000
END:STANDARD
BEGIN:DAYLIGHT
TZOFFSETFROM:+0100
TZOFFSETTO:+0200
TZNAME:CEST
DTSTART:20270328T010000
END:DAYLIGHT
BEGIN:STANDARD
TZOFFSETFROM:+0200
TZOFFSETTO:+0100
TZNAME:CET
DTSTART:20271031T010000
END:STANDARD
END:VTIMEZONE
BEGIN:VEVENT
DTSTART;TZID=Europe/Berlin:20260421T110000
DTEND;TZID=Europe/Berlin:20260421T210000
DTSTAMP:20260421T114109
CREATED:20260419T062239Z
LAST-MODIFIED:20260419T062239Z
UID:10031639-1776769200-1776805200@besen-stuttgart.de
SUMMARY:Hochflurbesen Glock
DESCRIPTION:
URL:https://besen-stuttgart.de/termin/hochflurbesen-glock-34/2026-04-21/
LOCATION:Hochflurbesen – Weinbau Glock und Sohn\, Hochflur 22\, Stuttgart-Bad Cannstatt\, 70374\, Deutschland
GEO:48.82153;9.24399
X-APPLE-STRUCTURED-LOCATION;VALUE=URI;X-ADDRESS=Hochflurbesen – Weinbau Glock und Sohn Hochflur 22 Stuttgart-Bad Cannstatt 70374 Deutschland;X-APPLE-RADIUS=500;X-TITLE=Hochflur 22:geo:9.24399,48.82153
END:VEVENT
BEGIN:VEVENT
DTSTART;TZID=Europe/Berlin:20260421T110000
DTEND;TZID=Europe/Berlin:20260421T223000
DTSTAMP:20260421T114109
CREATED:20260409T184111Z
LAST-MODIFIED:20260409T184111Z
UID:10031555-1776769200-1776810600@besen-stuttgart.de
SUMMARY:Weingut Karl Wöhrwag
DESCRIPTION:
URL:https://besen-stuttgart.de/termin/weingut-karl-woehrwag-15/2026-04-21/
LOCATION:Weingut Karl Wöhrwag\, Klingenbachstraße 13\, Stuttgart-Obertürkheim\, 70327\, Deutschland
GEO:48.7604017;9.2742478
X-APPLE-STRUCTURED-LOCATION;VALUE=URI;X-ADDRESS=Weingut Karl Wöhrwag Klingenbachstraße 13 Stuttgart-Obertürkheim 70327 Deutschland;X-APPLE-RADIUS=500;X-TITLE=Klingenbachstraße 13:geo:9.2742478,48.7604017
END:VEVENT
BEGIN:VEVENT
DTSTART;TZID=Europe/Berlin:20260421T110000
DTEND;TZID=Europe/Berlin:20260421T230000
DTSTAMP:20260421T114109
CREATED:20260106T051022Z
LAST-MODIFIED:20260106T051022Z
UID:10030162-1776769200-1776812400@besen-stuttgart.de
SUMMARY:Spargel-Besen
DESCRIPTION:
URL:https://besen-stuttgart.de/termin/spargel-besen-6/2026-04-21/
LOCATION:Bauerle vom Schmidener Feld\, Höhe 1\, Fellbach\, 70736\, Deutschland
GEO:48.8188908;9.2548111
X-APPLE-STRUCTURED-LOCATION;VALUE=URI;X-ADDRESS=Bauerle vom Schmidener Feld Höhe 1 Fellbach 70736 Deutschland;X-APPLE-RADIUS=500;X-TITLE=Höhe 1:geo:9.2548111,48.8188908
END:VEVENT
END:VCALENDAR